BEGIN:VCALENDAR
VERSION:2.0
PRODID:-//La Traviesa Ediciones - ECPv4.8.2//NONSGML v1.0//EN
CALSCALE:GREGORIAN
METHOD:PUBLISH
X-WR-CALNAME:La Traviesa Ediciones
X-ORIGINAL-URL:https://latraviesaediciones.es
X-WR-CALDESC:Eventos para La Traviesa Ediciones
BEGIN:VEVENT
DTSTART;TZID=UTC+2:20251003T220000
DTEND;TZID=UTC+2:20251004T200000
DTSTAMP:20260422T142158
CREATED:20250917T101821Z
LAST-MODIFIED:20250930T172715Z
UID:9593-1759528800-1759608000@latraviesaediciones.es
SUMMARY:Participamos en el Festival LINA\, organizado por el PRAE\, Valladolid.
DESCRIPTION:Participamos en el Festival LINA\, dentro de las Jornadas Profesionales que se celebran del 3 al 5 de octubre\, organizado por la Junta de Castilla y León\, a través del PRAE (Propuestas Ambientales Educativas) en Valladolid.\nEl festival LINA dedicado a la literatura infantil y de naturaleza\, celebra este año su séptima edición y tiene por lema «Cielos\, ¡oh cielos!» y pretende orientar el encuentro y las conversaciones hacia arriba. LINA está organizado por la Consejería de Medio ambiente\, Vivienda y Ordenación del Territorio de la Junta de Castilla y León\, a través del PRAE y con la colaboración de la Consejería de Cultura\,Turismo y Deporte y la Consejería de Educación. \nComo dicen desde la organización «el LINA es una oportunidad para leer la naturaleza desde el sendero que traza la literatura infantil y juvenil. Invita a vivir una experiencia literaria en el medio natural. Buscamos conquistar territorios para la lectura y lectores del territorio: libros de naturaleza\, lectura en la naturaleza. […] Cada otoño el LINA da fruto en forma de Festival: selección de lecturas\, encuentros profesionales\, intercambio de experiencias y actividades culturales para familias y escolares relacionadas con la lectura\, la infancia y la naturaleza». \nDentro de las Jornadas Profesionales\, Paqui Godino impartirá un taller práctico\, «Educando a Cielo Abierto»\, la tarde del viernes\, 3 de octubre\, y participará en una mesa de experiencias el sábado por la mañana\, 4 de octubre\, contando el proyecto editorial y formativo de La Traviesa y las iniciativas colaborativas en marcha. \nDescubre el maravilloso programa de las jornadas. Recuerda que es necesario hacer la inscripción previa. ¡Apúntate cuanto antes que las actividades tienen plazas limitadas! \nDescubre toda la información de los talleres\, microtalleres y experiencias: \n\n		\n			#gallery-1 {\n				margin: auto;\n			}\n			#gallery-1 .gallery-item {\n				float: left;\n				margin-top: 10px;\n				text-align: center;\n				width: 50%;\n			}\n			#gallery-1 img {\n				border: 2px solid #cfcfcf;\n			}\n			#gallery-1 .gallery-caption {\n				margin-left: 0;\n			}\n			/* see gallery_shortcode() in wp-includes/media.php */\n		\n		\n			\n				\n			\n			\n				\n			\n		\n\nY de las personas invitadas de este año: \n  \nAdemás\, durante el festival\, del 28 de septiembre al 5 de octubre hay un programa paralelo para familias\, con espectáculos\, talleres\, pasacalles\, lectura\, música.. ¡y hasta un dragón surcando los cielos! \n¡No te lo pierdas! ¡¡¡Nos vemos en el LINA muy  pronto!!! \n  \n  \n
URL:https://latraviesaediciones.es/evento/participamos-en-el-festival-lina-organizado-por-el-prae-valladolid/
LOCATION:PRAE (Propuestas Ambientales Educativas)\, Valladolid
CATEGORIES:Eventos,Formación
ATTACH;FMTTYPE=image/jpeg:https://latraviesaediciones.es/wp-content/uploads/2025/09/CARTEL_LINA_CIELOS_2025.jpg
END:VEVENT
END:VCALENDAR