BEGIN:VCALENDAR
VERSION:2.0
PRODID:-//La Traviesa Ediciones - ECPv4.8.2//NONSGML v1.0//EN
CALSCALE:GREGORIAN
METHOD:PUBLISH
X-WR-CALNAME:La Traviesa Ediciones
X-ORIGINAL-URL:https://latraviesaediciones.es
X-WR-CALDESC:Eventos para La Traviesa Ediciones
BEGIN:VEVENT
DTSTART;TZID=UTC+2:20260421T173000
DTEND;TZID=UTC+2:20260421T183000
DTSTAMP:20260422T124435
CREATED:20260313T165109Z
LAST-MODIFIED:20260313T165855Z
UID:9944-1776792600-1776796200@latraviesaediciones.es
SUMMARY:Club de Lectura a Cielo Abierto: «Educar en la Naturaleza. Mejores personas para un planeta mejor» de Katia Hueso
DESCRIPTION:Para el 21 de abril\, tenemos un nuevo encuentro del Club de Lectura a Cielo Abierto\, con otro de los imprescindibles de la conexión con la naturaleza: «Educar en la Naturaleza. Mejores personas para un planeta mejor» de Katia Hueso.\nEsta vez muy relacionado con el último encuentro de la Comunidad Educativa a Cielo Abierto\, puesto que su autora es Katia Hueso\, que nos acompañó e ilustró con su experiencia sobre la educación en la naturaleza e inclusión. \n«Educar en la Naturaleza»\, de 2021\, es una obra de referencia que explora cómo el contacto con la naturaleza favorece el desarrollo integral de la infancia y cómo podemos integrar el entorno natural en los procesos educativos de manera significativa. Si aún no lo conoces\, te invitamos a descubrirlo y\, si ya lo conoces\, a releerlo para compartirlo. \nSu autora\, Katia Hueso\, es Bióloga y Doctora en Sociedad y Cultura\, profesora universitaria\, escritora\, conferenciante y formadora. Cofundadora de Saltamontes en Collado Mediano (Madrid)\, primera escuela infantil en la naturaleza en España\, e impulsora de la iniciativa Naturaleza Inclusiva.  \nA buen seguro que no te dejará indiferente y te resultará un valiosísimo recurso. Como muestra\, qué mejor que las propias palabras de su autora\, en su web\, que comienza presentando su libro así: Si hubiera una palabra para definir la relación entre infancia y naturaleza\, esa sería «injusticia». Mientras que un bebé de un país desarrollado genera un impacto ambiental trece veces mayor que el de los nacidos en países en vías de desarrollo\, estos últimos sufren las consecuencias del deterioro ambiental que las sociedades acomodadas estamos causando […]. \nY acaba sosteniendo que: la única vía para cambiar el rumbo es la educación en la naturaleza\, entendiéndola no solo como una parte del currículo\, sino como algo transversal\, que trascienda incluso las instituciones educativas y comience en cada hogar. Porque no hay mejor herencia para dejar a nuestros hijos que la de un mundo mejor. \nSeguro que todo ello te resuena\, así que te invitamos a acompañarnos en esta nueva convocatoria. Como siempre\, este nuevo encuentro del Club de Lectura será conducido por Jara Loira\, y Silvia Corchero. Volveremos a reunirnos por vídeoconferencia\, a través de Zoom\, pero también puedes reunirte de manera presencial en tu localidad. Si quieres formar un grupo y proponer un espacio abierto para que otras personas se puedan unir\, escribe a educacionacieloabierto@gmail.com con los detalles y le daremos difusión. \nSi  ya perteneces  a la Comunidad Educativa a Cielo Abierto\, recibirás el enlace y la información para unirte online o presencialmente. Si aún no perteneces a la Comunidad\, puedes unirte para estar al día de todo o inscribirte a este encuentro del club. Todo aquí: https://linktr.ee/educacionacieloabierto  \n
URL:https://latraviesaediciones.es/evento/club-de-lectura-a-cielo-abierto-educar-en-la-naturaleza-mejores-personas-para-un-planeta-mejor-de-katia-hueso/
LOCATION:Online-Zoom y varias ubicaciones presencialmente
CATEGORIES:Eventos
ATTACH;FMTTYPE=image/png:https://latraviesaediciones.es/wp-content/uploads/2026/03/26-04-21_Educar_en_Naturaleza.png
END:VEVENT
END:VCALENDAR